BEGIN:VCALENDAR
VERSION:2.0
PRODID:-//St. Christopher School - ECPv5.9.1//NONSGML v1.0//EN
CALSCALE:GREGORIAN
METHOD:PUBLISH
X-WR-CALNAME:St. Christopher School
X-ORIGINAL-URL:https://school.stchristopheronline.com
X-WR-CALDESC:Events for St. Christopher School
BEGIN:VTIMEZONE
TZID:America/New_York
BEGIN:DAYLIGHT
TZOFFSETFROM:-0500
TZOFFSETTO:-0400
TZNAME:EDT
DTSTART:20230312T070000
END:DAYLIGHT
BEGIN:STANDARD
TZOFFSETFROM:-0400
TZOFFSETTO:-0500
TZNAME:EST
DTSTART:20231105T060000
END:STANDARD
END:VTIMEZONE
BEGIN:VEVENT
DTSTART;TZID=America/New_York:20230813T120000
DTEND;TZID=America/New_York:20230813T133000
DTSTAMP:20260422T001642
CREATED:20230805T104724Z
LAST-MODIFIED:20230805T104724Z
UID:7095-1691928000-1691933400@school.stchristopheronline.com
SUMMARY:Open House
DESCRIPTION:
URL:https://school.stchristopheronline.com/event/open-house-2/
END:VEVENT
BEGIN:VEVENT
DTSTART;VALUE=DATE:20230816
DTEND;VALUE=DATE:20230817
DTSTAMP:20260422T001642
CREATED:20230805T104814Z
LAST-MODIFIED:20230805T104814Z
UID:7097-1692144000-1692230399@school.stchristopheronline.com
SUMMARY:First Day of School
DESCRIPTION:
URL:https://school.stchristopheronline.com/event/first-day-of-school/
END:VEVENT
BEGIN:VEVENT
DTSTART;VALUE=DATE:20230818
DTEND;VALUE=DATE:20230819
DTSTAMP:20260422T001642
CREATED:20230805T104833Z
LAST-MODIFIED:20230805T105043Z
UID:7099-1692316800-1692403199@school.stchristopheronline.com
SUMMARY:Out of Uniform Day (August)
DESCRIPTION:
URL:https://school.stchristopheronline.com/event/out-of-uniform-day-9/
END:VEVENT
END:VCALENDAR