BEGIN:VCALENDAR
VERSION:2.0
PRODID:-//St. Christopher School - ECPv5.9.1//NONSGML v1.0//EN
CALSCALE:GREGORIAN
METHOD:PUBLISH
X-WR-CALNAME:St. Christopher School
X-ORIGINAL-URL:https://school.stchristopheronline.com
X-WR-CALDESC:Events for St. Christopher School
BEGIN:VTIMEZONE
TZID:America/New_York
BEGIN:DAYLIGHT
TZOFFSETFROM:-0500
TZOFFSETTO:-0400
TZNAME:EDT
DTSTART:20230312T070000
END:DAYLIGHT
BEGIN:STANDARD
TZOFFSETFROM:-0400
TZOFFSETTO:-0500
TZNAME:EST
DTSTART:20231105T060000
END:STANDARD
END:VTIMEZONE
BEGIN:VEVENT
DTSTART;VALUE=DATE:20230505
DTEND;VALUE=DATE:20230506
DTSTAMP:20260421T055333
CREATED:20220525T125451Z
LAST-MODIFIED:20220525T125451Z
UID:6668-1683244800-1683331199@school.stchristopheronline.com
SUMMARY:Professional Development Day (No School)
DESCRIPTION:
URL:https://school.stchristopheronline.com/event/professional-development-day-no-school-6/
END:VEVENT
BEGIN:VEVENT
DTSTART;VALUE=DATE:20230512
DTEND;VALUE=DATE:20230513
DTSTAMP:20260421T055333
CREATED:20220526T114929Z
LAST-MODIFIED:20220526T114929Z
UID:6676-1683849600-1683935999@school.stchristopheronline.com
SUMMARY:Out of Uniform Day
DESCRIPTION:
URL:https://school.stchristopheronline.com/event/out-of-uniform-day-8/
END:VEVENT
BEGIN:VEVENT
DTSTART;VALUE=DATE:20230519
DTEND;VALUE=DATE:20230520
DTSTAMP:20260421T055333
CREATED:20220526T114949Z
LAST-MODIFIED:20220526T114949Z
UID:6678-1684454400-1684540799@school.stchristopheronline.com
SUMMARY:Field Day
DESCRIPTION:
URL:https://school.stchristopheronline.com/event/field-day-2/
END:VEVENT
BEGIN:VEVENT
DTSTART;VALUE=DATE:20230523
DTEND;VALUE=DATE:20230524
DTSTAMP:20260421T055333
CREATED:20220525T125528Z
LAST-MODIFIED:20220525T125528Z
UID:6670-1684800000-1684886399@school.stchristopheronline.com
SUMMARY:8th Grade Graduation
DESCRIPTION:
URL:https://school.stchristopheronline.com/event/8th-grade-graduation/
END:VEVENT
BEGIN:VEVENT
DTSTART;VALUE=DATE:20230524
DTEND;VALUE=DATE:20230525
DTSTAMP:20260421T055333
CREATED:20220525T125611Z
LAST-MODIFIED:20220525T125611Z
UID:6672-1684886400-1684972799@school.stchristopheronline.com
SUMMARY:Kindergarten Graduation
DESCRIPTION:
URL:https://school.stchristopheronline.com/event/kindergarten-graduation-2/
END:VEVENT
BEGIN:VEVENT
DTSTART;VALUE=DATE:20230526
DTEND;VALUE=DATE:20230527
DTSTAMP:20260421T055333
CREATED:20220327T194257Z
LAST-MODIFIED:20220327T194257Z
UID:6534-1685059200-1685145599@school.stchristopheronline.com
SUMMARY:2022-2023 Last Day of School (1/2 Day)
DESCRIPTION:
URL:https://school.stchristopheronline.com/event/2022-2023-last-day-of-school-1-2-day/
END:VEVENT
END:VCALENDAR