BEGIN:VCALENDAR
VERSION:2.0
PRODID:-//St. Christopher School - ECPv5.9.1//NONSGML v1.0//EN
CALSCALE:GREGORIAN
METHOD:PUBLISH
X-WR-CALNAME:St. Christopher School
X-ORIGINAL-URL:https://school.stchristopheronline.com
X-WR-CALDESC:Events for St. Christopher School
BEGIN:VTIMEZONE
TZID:America/New_York
BEGIN:DAYLIGHT
TZOFFSETFROM:-0500
TZOFFSETTO:-0400
TZNAME:EDT
DTSTART:20230312T070000
END:DAYLIGHT
BEGIN:STANDARD
TZOFFSETFROM:-0400
TZOFFSETTO:-0500
TZNAME:EST
DTSTART:20231105T060000
END:STANDARD
END:VTIMEZONE
BEGIN:VEVENT
DTSTART;VALUE=DATE:20230302
DTEND;VALUE=DATE:20230303
DTSTAMP:20260421T090745
CREATED:20220524T160457Z
LAST-MODIFIED:20220524T160457Z
UID:6647-1677715200-1677801599@school.stchristopheronline.com
SUMMARY:Spring Parent / Teacher Conferences
DESCRIPTION:Times Available are 3:00-4:30 pm and 5:30-7:30 pm.
URL:https://school.stchristopheronline.com/event/spring-parent-teacher-conferences/
END:VEVENT
BEGIN:VEVENT
DTSTART;VALUE=DATE:20230303
DTEND;VALUE=DATE:20230304
DTSTAMP:20260421T090745
CREATED:20220524T172517Z
LAST-MODIFIED:20220524T172517Z
UID:6652-1677801600-1677887999@school.stchristopheronline.com
SUMMARY:Conference Day (No School)
DESCRIPTION:
URL:https://school.stchristopheronline.com/event/conference-day-no-school-2/
END:VEVENT
BEGIN:VEVENT
DTSTART;VALUE=DATE:20230310
DTEND;VALUE=DATE:20230311
DTSTAMP:20260421T090745
CREATED:20220525T124627Z
LAST-MODIFIED:20220525T124627Z
UID:6656-1678406400-1678492799@school.stchristopheronline.com
SUMMARY:End of 3rd Quarter
DESCRIPTION:
URL:https://school.stchristopheronline.com/event/end-of-3rd-quarter-2/
END:VEVENT
BEGIN:VEVENT
DTSTART;VALUE=DATE:20230315
DTEND;VALUE=DATE:20230316
DTSTAMP:20260421T090745
CREATED:20230111T121933Z
LAST-MODIFIED:20230111T122040Z
UID:6971-1678838400-1678924799@school.stchristopheronline.com
SUMMARY:CogAT Testing Grades 2 & 5
DESCRIPTION:
URL:https://school.stchristopheronline.com/event/cogat-testing-grades-2-5-2/
END:VEVENT
BEGIN:VEVENT
DTSTART;VALUE=DATE:20230316
DTEND;VALUE=DATE:20230317
DTSTAMP:20260421T090745
CREATED:20220525T124700Z
LAST-MODIFIED:20220525T124700Z
UID:6658-1678924800-1679011199@school.stchristopheronline.com
SUMMARY:Spring Picture Day
DESCRIPTION:
URL:https://school.stchristopheronline.com/event/spring-picture-day-2/
END:VEVENT
BEGIN:VEVENT
DTSTART;VALUE=DATE:20230317
DTEND;VALUE=DATE:20230318
DTSTAMP:20260421T090745
CREATED:20220525T124733Z
LAST-MODIFIED:20220525T125024Z
UID:6660-1679011200-1679097599@school.stchristopheronline.com
SUMMARY:Green Out of Uniform Day
DESCRIPTION:
URL:https://school.stchristopheronline.com/event/green-out-of-uniform-day/
END:VEVENT
BEGIN:VEVENT
DTSTART;VALUE=DATE:20230320
DTEND;VALUE=DATE:20230324
DTSTAMP:20260421T090745
CREATED:20220524T173248Z
LAST-MODIFIED:20230111T121726Z
UID:6654-1679270400-1679615999@school.stchristopheronline.com
SUMMARY:IOWA Testing
DESCRIPTION:
URL:https://school.stchristopheronline.com/event/iowa-testing-6/
END:VEVENT
BEGIN:VEVENT
DTSTART;VALUE=DATE:20230324
DTEND;VALUE=DATE:20230325
DTSTAMP:20260421T090745
CREATED:20220525T125107Z
LAST-MODIFIED:20220525T125107Z
UID:6662-1679616000-1679702399@school.stchristopheronline.com
SUMMARY:Professional Development Day (No School)
DESCRIPTION:
URL:https://school.stchristopheronline.com/event/professional-development-day-no-school-5/
END:VEVENT
BEGIN:VEVENT
DTSTART;TZID=America/New_York:20230325T190000
DTEND;TZID=America/New_York:20230325T210000
DTSTAMP:20260421T090745
CREATED:20230210T021439Z
LAST-MODIFIED:20230210T021525Z
UID:7020-1679770800-1679778000@school.stchristopheronline.com
SUMMARY:Father - Daughter Dance
DESCRIPTION:March 25th from 7:00-9:00pm at St. John’s.\nThe theme will be decades\, so plan to dress as your favorite decade.\nDJ\, snacks\, drinks\, and pictures with Spivey.\nCost is $15 per family.\nPlease submit payment via:\n\nVenmo @stchrispto\nCash or check\, delivered to the School Office\, in an envelope labeled Father/Daughter dance and your family name.  Make checks payable to St. Chris PTO.\n\n\nPlease register no later than March 20th using THIS FORM.
URL:https://school.stchristopheronline.com/event/father-daughter-dance-2/
END:VEVENT
END:VCALENDAR